BEGIN:VCALENDAR
VERSION:2.0
PRODID:-//Forest Ramblers - ECPv6.15.20//NONSGML v1.0//EN
CALSCALE:GREGORIAN
METHOD:PUBLISH
X-ORIGINAL-URL:https://forestramblers.co.uk
X-WR-CALDESC:Events for Forest Ramblers
REFRESH-INTERVAL;VALUE=DURATION:PT1H
X-Robots-Tag:noindex
X-PUBLISHED-TTL:PT1H
BEGIN:VTIMEZONE
TZID:Europe/London
BEGIN:DAYLIGHT
TZOFFSETFROM:+0000
TZOFFSETTO:+0100
TZNAME:BST
DTSTART:20220327T010000
END:DAYLIGHT
BEGIN:STANDARD
TZOFFSETFROM:+0100
TZOFFSETTO:+0000
TZNAME:GMT
DTSTART:20221030T010000
END:STANDARD
BEGIN:DAYLIGHT
TZOFFSETFROM:+0000
TZOFFSETTO:+0100
TZNAME:BST
DTSTART:20230326T010000
END:DAYLIGHT
BEGIN:STANDARD
TZOFFSETFROM:+0100
TZOFFSETTO:+0000
TZNAME:GMT
DTSTART:20231029T010000
END:STANDARD
BEGIN:DAYLIGHT
TZOFFSETFROM:+0000
TZOFFSETTO:+0100
TZNAME:BST
DTSTART:20240331T010000
END:DAYLIGHT
BEGIN:STANDARD
TZOFFSETFROM:+0100
TZOFFSETTO:+0000
TZNAME:GMT
DTSTART:20241027T010000
END:STANDARD
END:VTIMEZONE
BEGIN:VEVENT
DTSTART;TZID=Europe/London:20230914T114000
DTEND;TZID=Europe/London:20230914T163000
DTSTAMP:20260421T093343
CREATED:20230807T165340Z
LAST-MODIFIED:20230907T124747Z
UID:1896-1694691600-1694709000@forestramblers.co.uk
SUMMARY:Frimley circular
DESCRIPTION:Ramble: 3452 Meet: Frimley station GU16 7QH 11.40 Distance: 6 miles Lunch: The Rose and Thistle\, 1 Sturt Road\, Frimley Green\, Camberley\, Surrey GU16 6HT (GR SU888567) 13.00 Travel: London Waterloo 10.23am\, Clapham Junction 10.30 and Ash Vale 11.14. Change at Ash Vale for the 11.34 to Frimley arriving at 11.40. Freedom Pass boundary is Surbiton. Half hourly return trains. Leader: Rosemary 07486 081 775 This walk is on the borders of Surrey\, Hampshire and Berkshire and is almost entirely flat with just a couple of gentle slopes. The walk takes us by both the Blackwater river and the Basingstoke Canal as well as deep in the woods. There are no stiles but a few flights of steps. The morning section before lunch is quite short
URL:https://forestramblers.co.uk/walk/frimley-circular
LOCATION:Frimley station\, GU16 7QH
END:VEVENT
BEGIN:VEVENT
DTSTART;TZID=Europe/London:20230928T111400
DTEND;TZID=Europe/London:20230928T163000
DTSTAMP:20260421T093343
CREATED:20230731T155025Z
LAST-MODIFIED:20230911T170623Z
UID:1890-1695899640-1695918600@forestramblers.co.uk
SUMMARY:Dorking to Brockham circular (Deepdene Trail)
DESCRIPTION:Ramble: 3453 Meet: Dorking Station RH4 1TF 11.14  Distance: 6.5 miles Lunch: Royal Oak\, Brockham Green\, Brockham\, RH3 7JS (GR TQ197495) 13.15 Travel: Waterloo 10.24\, Clapham Junction 10.33\, Wimbledon 10.40\, Epsom 10.58. Freedom Pass boundary Ewell East / Ewell West. For return journey have three trains per hour. Leader: Andy 07917 844 501 From the station we head off to see the Deepdene Trail\, which includes restored gardens\, temple and terraces. From there we proceed through Surrey countryside to Brockham for lunch. We return to Dorking taking in the ruins of Betchworth castle. \n 
URL:https://forestramblers.co.uk/walk/dorking-to-brockham-circular-deepdene-trail
LOCATION:Dorking station\, Station Approach\, RH4 1TF\, United Kingdom
END:VEVENT
END:VCALENDAR